BEGIN:VCALENDAR
VERSION:2.0
PRODID:-//Tukios.com/
BEGIN:VEVENT
UID:d9585cc3-536c-4005-9ab0-8a4eb9b49ac5@www.kepplegraft.com
DTSTAMP:20260423T184634Z
DTSTART:20260427T140000Z
DTEND:20260427T150000Z
SUMMARY:Mass
DESCRIPTION:
URL:https://www.kepplegraft.com/obituaries/sally-waugaman
LOCATION: 1001 Mt Pleasant Rd  Greensburg PA 15601
GEO:40.2877647;-79.5283778
END:VEVENT
END:VCALENDAR