BEGIN:VCALENDAR
VERSION:2.0
PRODID:-//Tukios.com/
BEGIN:VEVENT
UID:4350d444-47fc-43e2-ab2b-cd3515bac68b@www.kepplegraft.com
DTSTAMP:20260423T184956Z
DTSTART:20260427T133000Z
DTEND:20260427T134500Z
SUMMARY:Prayer Service
DESCRIPTION:
URL:https://www.kepplegraft.com/obituaries/sally-waugaman
LOCATION: 524 N. Main Street  Greensburg PA 15601
GEO:40.3104638;-79.5473622
END:VEVENT
END:VCALENDAR