BEGIN:VCALENDAR
VERSION:2.0
PRODID:-//Tukios.com/
BEGIN:VEVENT
UID:124d5b79-a9b0-40db-b3e4-22a101ef29a4@www.kepplegraft.com
DTSTAMP:20260423T185521Z
DTSTART:20260426T220000Z
DTEND:20260427T000000Z
SUMMARY:Visitation
DESCRIPTION:
URL:https://www.kepplegraft.com/obituaries/sally-waugaman
LOCATION: 524 N. Main Street  Greensburg PA 15601
GEO:40.3104638;-79.5473622
END:VEVENT
END:VCALENDAR