BEGIN:VCALENDAR
VERSION:2.0
PRODID:-//Tukios.com/
BEGIN:VEVENT
UID:fda9e931-9745-4a75-8add-feb2c9479c65@www.kepplegraft.com
DTSTAMP:20260423T184914Z
DTSTART:20260426T180000Z
DTEND:20260426T200000Z
SUMMARY:Visitation
DESCRIPTION:
URL:https://www.kepplegraft.com/obituaries/sally-waugaman
LOCATION: 524 N. Main Street  Greensburg PA 15601
GEO:40.3104638;-79.5473622
END:VEVENT
END:VCALENDAR