BEGIN:VCALENDAR
VERSION:2.0
PRODID:-//Tukios.com/
BEGIN:VEVENT
UID:2f0e67e6-0105-40cb-8870-28212dc21466@www.kepplegraft.com
DTSTAMP:20260421T234306Z
DTSTART:20260425T140000Z
DTEND:20260425T150000Z
SUMMARY:Funeral Service
DESCRIPTION:
URL:https://www.kepplegraft.com/obituaries/margaret-gray
LOCATION:KEPPLE-GRAFT Funeral Home 524 North Main Street  Greensburg PA 
	15601
GEO:40.3104387;-79.5473725
END:VEVENT
END:VCALENDAR