BEGIN:VCALENDAR
VERSION:2.0
PRODID:-//Tukios.com/
BEGIN:VEVENT
UID:0d9da14b-438a-47c7-8cff-57c270c4c30c@www.kepplegraft.com
DTSTAMP:20260421T234142Z
DTSTART:20260424T220000Z
DTEND:20260425T000000Z
SUMMARY:Visitation
DESCRIPTION:
URL:https://www.kepplegraft.com/obituaries/margaret-gray
LOCATION:KEPPLE-GRAFT Funeral Home 524 North Main Street  Greensburg PA 
	15601
GEO:40.3104387;-79.5473725
END:VEVENT
END:VCALENDAR