BEGIN:VCALENDAR
VERSION:2.0
PRODID:-//Tukios.com/
BEGIN:VEVENT
UID:34daef9c-5d9e-4ce2-bdc9-31022675bb4a@www.kepplegraft.com
DTSTAMP:20260421T234422Z
DTSTART:20260424T180000Z
DTEND:20260424T200000Z
SUMMARY:Visitation
DESCRIPTION:
URL:https://www.kepplegraft.com/obituaries/margaret-gray
LOCATION:KEPPLE-GRAFT Funeral Home 524 North Main Street  Greensburg PA 
	15601
GEO:40.3104387;-79.5473725
END:VEVENT
END:VCALENDAR